BEGIN:VCALENDAR
VERSION:2.0
PRODID:-//Institut du Sacré-Cœur de Mons - ECPv5.14.0.4//NONSGML v1.0//EN
CALSCALE:GREGORIAN
METHOD:PUBLISH
X-WR-CALNAME:Institut du Sacré-Cœur de Mons
X-ORIGINAL-URL:https://new.iscmons.be
X-WR-CALDESC:évènements pour Institut du Sacré-Cœur de Mons
BEGIN:VTIMEZONE
TZID:Europe/Paris
BEGIN:DAYLIGHT
TZOFFSETFROM:+0100
TZOFFSETTO:+0200
TZNAME:CEST
DTSTART:20190331T010000
END:DAYLIGHT
BEGIN:STANDARD
TZOFFSETFROM:+0200
TZOFFSETTO:+0100
TZNAME:CET
DTSTART:20191027T010000
END:STANDARD
END:VTIMEZONE
BEGIN:VEVENT
DTSTART;VALUE=DATE:20191206
DTEND;VALUE=DATE:20191207
DTSTAMP:20260425T165339
CREATED:20191202T094854Z
LAST-MODIFIED:20191202T094919Z
UID:6433-1575590400-1575676799@new.iscmons.be
SUMMARY:Accueil d'un auteur
DESCRIPTION:Pour les élèves de 3e année dans le cadre du cours de français.
URL:https://new.iscmons.be/event/accueil-dun-auteur/
END:VEVENT
END:VCALENDAR