BEGIN:VCALENDAR
VERSION:2.0
PRODID:-//Institut du Sacré-Cœur de Mons - ECPv5.14.0.4//NONSGML v1.0//EN
CALSCALE:GREGORIAN
METHOD:PUBLISH
X-WR-CALNAME:Institut du Sacré-Cœur de Mons
X-ORIGINAL-URL:https://new.iscmons.be
X-WR-CALDESC:évènements pour Institut du Sacré-Cœur de Mons
BEGIN:VTIMEZONE
TZID:Europe/Paris
BEGIN:DAYLIGHT
TZOFFSETFROM:+0100
TZOFFSETTO:+0200
TZNAME:CEST
DTSTART:20190331T010000
END:DAYLIGHT
BEGIN:STANDARD
TZOFFSETFROM:+0200
TZOFFSETTO:+0100
TZNAME:CET
DTSTART:20191027T010000
END:STANDARD
END:VTIMEZONE
BEGIN:VEVENT
DTSTART;TZID=Europe/Paris:20191121T080000
DTEND;TZID=Europe/Paris:20191121T080000
DTSTAMP:20260425T193711
CREATED:20191009T072745Z
LAST-MODIFIED:20191009T072745Z
UID:6058-1574323200-1574323200@new.iscmons.be
SUMMARY:Animation sur les médias à Mons
DESCRIPTION:Elèves de 5e Sciences sociales (8h00 à 11h50)
URL:https://new.iscmons.be/event/animation-sur-les-medias-a-mons/
END:VEVENT
END:VCALENDAR