BEGIN:VCALENDAR
VERSION:2.0
PRODID:-//Institut du Sacré-Cœur de Mons - ECPv5.14.0.4//NONSGML v1.0//EN
CALSCALE:GREGORIAN
METHOD:PUBLISH
X-WR-CALNAME:Institut du Sacré-Cœur de Mons
X-ORIGINAL-URL:https://new.iscmons.be
X-WR-CALDESC:évènements pour Institut du Sacré-Cœur de Mons
BEGIN:VTIMEZONE
TZID:Europe/Paris
BEGIN:DAYLIGHT
TZOFFSETFROM:+0100
TZOFFSETTO:+0200
TZNAME:CEST
DTSTART:20210328T010000
END:DAYLIGHT
BEGIN:STANDARD
TZOFFSETFROM:+0200
TZOFFSETTO:+0100
TZNAME:CET
DTSTART:20211031T010000
END:STANDARD
END:VTIMEZONE
BEGIN:VEVENT
DTSTART;VALUE=DATE:20210618
DTEND;VALUE=DATE:20210619
DTSTAMP:20260422T125911
CREATED:20201012T134047Z
LAST-MODIFIED:20201012T134047Z
UID:7295-1623974400-1624060799@new.iscmons.be
SUMMARY:CE1D Langues modernes (2èmes)
DESCRIPTION:Partie écrite : le vendredi 18 juin 2021 \nPartie orale : entre le 14 et le 21 juin 2021
URL:https://new.iscmons.be/event/ce1d-langues-modernes-2emes/
END:VEVENT
END:VCALENDAR