BEGIN:VCALENDAR
VERSION:2.0
PRODID:-//Institut du Sacré-Cœur de Mons - ECPv5.14.0.4//NONSGML v1.0//EN
CALSCALE:GREGORIAN
METHOD:PUBLISH
X-WR-CALNAME:Institut du Sacré-Cœur de Mons
X-ORIGINAL-URL:https://new.iscmons.be
X-WR-CALDESC:évènements pour Institut du Sacré-Cœur de Mons
BEGIN:VTIMEZONE
TZID:Europe/Paris
BEGIN:DAYLIGHT
TZOFFSETFROM:+0100
TZOFFSETTO:+0200
TZNAME:CEST
DTSTART:20210328T010000
END:DAYLIGHT
BEGIN:STANDARD
TZOFFSETFROM:+0200
TZOFFSETTO:+0100
TZNAME:CET
DTSTART:20211031T010000
END:STANDARD
END:VTIMEZONE
BEGIN:VEVENT
DTSTART;VALUE=DATE:20210927
DTEND;VALUE=DATE:20210928
DTSTAMP:20260422T052935
CREATED:20210913T165052Z
LAST-MODIFIED:20210913T165052Z
UID:8358-1632700800-1632787199@new.iscmons.be
SUMMARY:Fête de la Communauté Française
DESCRIPTION:Congé pour tous
URL:https://new.iscmons.be/event/fete-de-la-communaute-francaise/
END:VEVENT
END:VCALENDAR