BEGIN:VCALENDAR
VERSION:2.0
PRODID:-//Institut du Sacré-Cœur de Mons - ECPv5.14.0.4//NONSGML v1.0//EN
CALSCALE:GREGORIAN
METHOD:PUBLISH
X-WR-CALNAME:Institut du Sacré-Cœur de Mons
X-ORIGINAL-URL:https://new.iscmons.be
X-WR-CALDESC:évènements pour Institut du Sacré-Cœur de Mons
BEGIN:VTIMEZONE
TZID:Europe/Paris
BEGIN:DAYLIGHT
TZOFFSETFROM:+0100
TZOFFSETTO:+0200
TZNAME:CEST
DTSTART:20210328T010000
END:DAYLIGHT
BEGIN:STANDARD
TZOFFSETFROM:+0200
TZOFFSETTO:+0100
TZNAME:CET
DTSTART:20211031T010000
END:STANDARD
END:VTIMEZONE
BEGIN:VEVENT
DTSTART;VALUE=DATE:20210316
DTEND;VALUE=DATE:20210318
DTSTAMP:20260422T174528
CREATED:20210222T125437Z
LAST-MODIFIED:20210222T125437Z
UID:7890-1615852800-1616025599@new.iscmons.be
SUMMARY:Journée pédagogique
DESCRIPTION:L’équipe éducative du Sacré-Cœur est conviée à une journée pédagogique. \nTous les cours (en présentiel et en distanciel) sont suspendus pour tous les élèves.
URL:https://new.iscmons.be/event/journee-pedagogique-10/
END:VEVENT
END:VCALENDAR