BEGIN:VCALENDAR
VERSION:2.0
PRODID:-//Institut du Sacré-Cœur de Mons - ECPv5.14.0.4//NONSGML v1.0//EN
CALSCALE:GREGORIAN
METHOD:PUBLISH
X-WR-CALNAME:Institut du Sacré-Cœur de Mons
X-ORIGINAL-URL:https://new.iscmons.be
X-WR-CALDESC:évènements pour Institut du Sacré-Cœur de Mons
BEGIN:VTIMEZONE
TZID:Europe/Paris
BEGIN:DAYLIGHT
TZOFFSETFROM:+0100
TZOFFSETTO:+0200
TZNAME:CEST
DTSTART:20200329T010000
END:DAYLIGHT
BEGIN:STANDARD
TZOFFSETFROM:+0200
TZOFFSETTO:+0100
TZNAME:CET
DTSTART:20201025T010000
END:STANDARD
END:VTIMEZONE
BEGIN:VEVENT
DTSTART;TZID=Europe/Paris:20201218T080000
DTEND;TZID=Europe/Paris:20201218T120000
DTSTAMP:20260423T000405
CREATED:20200924T100206Z
LAST-MODIFIED:20201125T102257Z
UID:7107-1608278400-1608292800@new.iscmons.be
SUMMARY:Remise des Bulletins 2
DESCRIPTION:En matinée \nProgramme ici
URL:https://new.iscmons.be/event/veillee-de-noel-remise-des-bulletins-2/
END:VEVENT
END:VCALENDAR