BEGIN:VCALENDAR
VERSION:2.0
PRODID:-//Institut du Sacré-Cœur de Mons - ECPv5.14.0.4//NONSGML v1.0//EN
CALSCALE:GREGORIAN
METHOD:PUBLISH
X-WR-CALNAME:Institut du Sacré-Cœur de Mons
X-ORIGINAL-URL:https://new.iscmons.be
X-WR-CALDESC:évènements pour Institut du Sacré-Cœur de Mons
BEGIN:VTIMEZONE
TZID:Europe/Paris
BEGIN:DAYLIGHT
TZOFFSETFROM:+0100
TZOFFSETTO:+0200
TZNAME:CEST
DTSTART:20190331T010000
END:DAYLIGHT
BEGIN:STANDARD
TZOFFSETFROM:+0200
TZOFFSETTO:+0100
TZNAME:CET
DTSTART:20191027T010000
END:STANDARD
END:VTIMEZONE
BEGIN:VEVENT
DTSTART;VALUE=DATE:20190402
DTEND;VALUE=DATE:20190406
DTSTAMP:20260426T045532
CREATED:20181214T110643Z
LAST-MODIFIED:20181214T110643Z
UID:4679-1554163200-1554508799@new.iscmons.be
SUMMARY:Accueil des élèves d'Almelo (P.-B.)
DESCRIPTION:3e\, 4e\, 5e et 6e Immersion Ndls – Responsable : C. Ysebaert
URL:https://new.iscmons.be/event/accueil-des-eleves-dalmelo-p-b/
END:VEVENT
BEGIN:VEVENT
DTSTART;VALUE=DATE:20190405
DTEND;VALUE=DATE:20190406
DTSTAMP:20260426T045532
CREATED:20181026T173432Z
LAST-MODIFIED:20181026T173432Z
UID:4348-1554422400-1554508799@new.iscmons.be
SUMMARY:Célébration de Pâques
DESCRIPTION:Responsables : professeurs de religion – Messe : 9h00 puis 10h00
URL:https://new.iscmons.be/event/celebration-de-paques-2/
END:VEVENT
BEGIN:VEVENT
DTSTART;VALUE=DATE:20190405
DTEND;VALUE=DATE:20190406
DTSTAMP:20260426T045532
CREATED:20190201T102624Z
LAST-MODIFIED:20190201T102624Z
UID:4893-1554422400-1554508799@new.iscmons.be
SUMMARY:Exposition consacrée au Surréalisme - 3es Arts d’Expression
DESCRIPTION:Responsable : D. Deleu \nVisite au BAM (Mons) pour  10h15
URL:https://new.iscmons.be/event/exposition-consacree-au-surrealisme-3es-arts-dexpression/
END:VEVENT
BEGIN:VEVENT
DTSTART;VALUE=DATE:20190405
DTEND;VALUE=DATE:20190406
DTSTAMP:20260426T045532
CREATED:20190403T072219Z
LAST-MODIFIED:20190403T072219Z
UID:5323-1554422400-1554508799@new.iscmons.be
SUMMARY:Visite du Musée du Doudou
DESCRIPTION:2CJ : 12h40-14h25
URL:https://new.iscmons.be/event/visite-du-musee-du-doudou-4/
END:VEVENT
END:VCALENDAR