BEGIN:VCALENDAR
VERSION:2.0
PRODID:-//Institut du Sacré-Cœur de Mons - ECPv5.14.0.4//NONSGML v1.0//EN
CALSCALE:GREGORIAN
METHOD:PUBLISH
X-WR-CALNAME:Institut du Sacré-Cœur de Mons
X-ORIGINAL-URL:https://new.iscmons.be
X-WR-CALDESC:évènements pour Institut du Sacré-Cœur de Mons
BEGIN:VTIMEZONE
TZID:Europe/Paris
BEGIN:DAYLIGHT
TZOFFSETFROM:+0100
TZOFFSETTO:+0200
TZNAME:CEST
DTSTART:20190331T010000
END:DAYLIGHT
BEGIN:STANDARD
TZOFFSETFROM:+0200
TZOFFSETTO:+0100
TZNAME:CET
DTSTART:20191027T010000
END:STANDARD
END:VTIMEZONE
BEGIN:VEVENT
DTSTART;VALUE=DATE:20190617
DTEND;VALUE=DATE:20190618
DTSTAMP:20260426T014025
CREATED:20181107T152018Z
LAST-MODIFIED:20181107T152018Z
UID:4480-1560729600-1560815999@new.iscmons.be
SUMMARY:Epreuve externe CESS en Français - 6ème année
DESCRIPTION:
URL:https://new.iscmons.be/event/epreuve-externe-cess-en-francais-6eme-annee/
END:VEVENT
BEGIN:VEVENT
DTSTART;VALUE=DATE:20190617
DTEND;VALUE=DATE:20190618
DTSTAMP:20260426T014025
CREATED:20181107T152242Z
LAST-MODIFIED:20181107T152242Z
UID:4486-1560729600-1560815999@new.iscmons.be
SUMMARY:Epreuve externe CE1D en Mathématiques- 2ème année
DESCRIPTION:
URL:https://new.iscmons.be/event/epreuve-externe-ce1d-en-mathematiques-2eme-annee/
END:VEVENT
BEGIN:VEVENT
DTSTART;TZID=Europe/Paris:20190617T080000
DTEND;TZID=Europe/Paris:20190620T170000
DTSTAMP:20260426T014025
CREATED:20190326T134648Z
LAST-MODIFIED:20190326T134648Z
UID:5227-1560758400-1561050000@new.iscmons.be
SUMMARY:Examens D2 - D3
DESCRIPTION:(dont CESS Fr et His + LM 4e)
URL:https://new.iscmons.be/event/examens-d2-d3-3/
END:VEVENT
BEGIN:VEVENT
DTSTART;TZID=Europe/Paris:20190617T080000
DTEND;TZID=Europe/Paris:20190620T170000
DTSTAMP:20260426T014025
CREATED:20190326T134823Z
LAST-MODIFIED:20190326T134823Z
UID:5229-1560758400-1561050000@new.iscmons.be
SUMMARY:Examens D1 (dont CE1D pour les 2èmes)
DESCRIPTION:
URL:https://new.iscmons.be/event/examens-d1-dont-ce1d-pour-les-2emes/
END:VEVENT
END:VCALENDAR