BEGIN:VCALENDAR
VERSION:2.0
PRODID:-//Institut du Sacré-Cœur de Mons - ECPv5.14.0.4//NONSGML v1.0//EN
CALSCALE:GREGORIAN
METHOD:PUBLISH
X-WR-CALNAME:Institut du Sacré-Cœur de Mons
X-ORIGINAL-URL:https://new.iscmons.be
X-WR-CALDESC:évènements pour Institut du Sacré-Cœur de Mons
BEGIN:VTIMEZONE
TZID:Europe/Paris
BEGIN:DAYLIGHT
TZOFFSETFROM:+0100
TZOFFSETTO:+0200
TZNAME:CEST
DTSTART:20190331T010000
END:DAYLIGHT
BEGIN:STANDARD
TZOFFSETFROM:+0200
TZOFFSETTO:+0100
TZNAME:CET
DTSTART:20191027T010000
END:STANDARD
END:VTIMEZONE
BEGIN:VEVENT
DTSTART;VALUE=DATE:20191112
DTEND;VALUE=DATE:20191113
DTSTAMP:20260425T181240
CREATED:20191009T072537Z
LAST-MODIFIED:20191023T051524Z
UID:6056-1573516800-1573603199@new.iscmons.be
SUMMARY:Info UMons (Guidance et Orientation)
DESCRIPTION:Elèves de 6e année \n11h00-12h40 : 6D \n13h30-15h15 : 6A
URL:https://new.iscmons.be/event/info-umons-guidance-et-orientation-3/
END:VEVENT
BEGIN:VEVENT
DTSTART;VALUE=DATE:20191112
DTEND;VALUE=DATE:20191113
DTSTAMP:20260425T181240
CREATED:20191017T085737Z
LAST-MODIFIED:20191017T085737Z
UID:6217-1573516800-1573603199@new.iscmons.be
SUMMARY:Amnesty International
DESCRIPTION:Pour les élèves de 5e et 6e (Option Grec) (Entre 11h00 et 12h40) \nAnimation sur la situation actuelle des réfugiés.
URL:https://new.iscmons.be/event/amnesty-international/
END:VEVENT
END:VCALENDAR