BEGIN:VCALENDAR
VERSION:2.0
PRODID:-//Institut du Sacré-Cœur de Mons - ECPv5.14.0.4//NONSGML v1.0//EN
CALSCALE:GREGORIAN
METHOD:PUBLISH
X-WR-CALNAME:Institut du Sacré-Cœur de Mons
X-ORIGINAL-URL:https://new.iscmons.be
X-WR-CALDESC:évènements pour Institut du Sacré-Cœur de Mons
BEGIN:VTIMEZONE
TZID:Europe/Paris
BEGIN:DAYLIGHT
TZOFFSETFROM:+0100
TZOFFSETTO:+0200
TZNAME:CEST
DTSTART:20190331T010000
END:DAYLIGHT
BEGIN:STANDARD
TZOFFSETFROM:+0200
TZOFFSETTO:+0100
TZNAME:CET
DTSTART:20191027T010000
END:STANDARD
END:VTIMEZONE
BEGIN:VEVENT
DTSTART;VALUE=DATE:20191114
DTEND;VALUE=DATE:20191115
DTSTAMP:20260425T181239
CREATED:20191009T072403Z
LAST-MODIFIED:20191023T051600Z
UID:6054-1573689600-1573775999@new.iscmons.be
SUMMARY:Info UMons (Guidance et Orientation)
DESCRIPTION:Elèves de 6e année \n11h00-12h40 : 6E \n13h30-15h15 : 6F
URL:https://new.iscmons.be/event/info-umons-guidance-et-orientation-2/
END:VEVENT
END:VCALENDAR