BEGIN:VCALENDAR
VERSION:2.0
PRODID:-//Institut du Sacré-Cœur de Mons - ECPv5.14.0.4//NONSGML v1.0//EN
CALSCALE:GREGORIAN
METHOD:PUBLISH
X-WR-CALNAME:Institut du Sacré-Cœur de Mons
X-ORIGINAL-URL:https://new.iscmons.be
X-WR-CALDESC:évènements pour Institut du Sacré-Cœur de Mons
BEGIN:VTIMEZONE
TZID:Europe/Paris
BEGIN:DAYLIGHT
TZOFFSETFROM:+0100
TZOFFSETTO:+0200
TZNAME:CEST
DTSTART:20190331T010000
END:DAYLIGHT
BEGIN:STANDARD
TZOFFSETFROM:+0200
TZOFFSETTO:+0100
TZNAME:CET
DTSTART:20191027T010000
END:STANDARD
END:VTIMEZONE
BEGIN:VEVENT
DTSTART;TZID=Europe/Paris:20191122T133000
DTEND;TZID=Europe/Paris:20191122T151500
DTSTAMP:20260425T181042
CREATED:20191009T073706Z
LAST-MODIFIED:20191009T073706Z
UID:6068-1574429400-1574435700@new.iscmons.be
SUMMARY:Semaine de la jeunesse
DESCRIPTION:Les élèves de 3es et de 4es sciences sociales participent à la semaine de la jeunesse de 13h30 à 15h15.
URL:https://new.iscmons.be/event/semaine-de-la-jeunesse-2/
END:VEVENT
END:VCALENDAR