BEGIN:VCALENDAR
VERSION:2.0
PRODID:-//Institut du Sacré-Cœur de Mons - ECPv5.14.0.4//NONSGML v1.0//EN
CALSCALE:GREGORIAN
METHOD:PUBLISH
X-WR-CALNAME:Institut du Sacré-Cœur de Mons
X-ORIGINAL-URL:https://new.iscmons.be
X-WR-CALDESC:évènements pour Institut du Sacré-Cœur de Mons
BEGIN:VTIMEZONE
TZID:Europe/Paris
BEGIN:DAYLIGHT
TZOFFSETFROM:+0100
TZOFFSETTO:+0200
TZNAME:CEST
DTSTART:20190331T010000
END:DAYLIGHT
BEGIN:STANDARD
TZOFFSETFROM:+0200
TZOFFSETTO:+0100
TZNAME:CET
DTSTART:20191027T010000
END:STANDARD
END:VTIMEZONE
BEGIN:VEVENT
DTSTART;VALUE=DATE:20191211
DTEND;VALUE=DATE:20191212
DTSTAMP:20260425T165303
CREATED:20191210T164735Z
LAST-MODIFIED:20191210T164735Z
UID:6461-1576022400-1576108799@new.iscmons.be
SUMMARY:Fin des cours à 11h50 pour tous les élèves
DESCRIPTION:
URL:https://new.iscmons.be/event/fin-des-cours-a-11h50-pour-tous-les-eleves/
END:VEVENT
END:VCALENDAR