BEGIN:VCALENDAR
VERSION:2.0
PRODID:-//Institut du Sacré-Cœur de Mons - ECPv5.14.0.4//NONSGML v1.0//EN
CALSCALE:GREGORIAN
METHOD:PUBLISH
X-WR-CALNAME:Institut du Sacré-Cœur de Mons
X-ORIGINAL-URL:https://new.iscmons.be
X-WR-CALDESC:évènements pour Institut du Sacré-Cœur de Mons
BEGIN:VTIMEZONE
TZID:Europe/Paris
BEGIN:DAYLIGHT
TZOFFSETFROM:+0100
TZOFFSETTO:+0200
TZNAME:CEST
DTSTART:20190331T010000
END:DAYLIGHT
BEGIN:STANDARD
TZOFFSETFROM:+0200
TZOFFSETTO:+0100
TZNAME:CET
DTSTART:20191027T010000
END:STANDARD
END:VTIMEZONE
BEGIN:VEVENT
DTSTART;VALUE=DATE:20191212
DTEND;VALUE=DATE:20191220
DTSTAMP:20260425T164158
CREATED:20191009T092251Z
LAST-MODIFIED:20191009T092518Z
UID:6074-1576108800-1576799999@new.iscmons.be
SUMMARY:Période d'examens
DESCRIPTION:Du 16/12 au 19/12 pour le D1 et du 12/12 au 19/12 pour les D2/D3
URL:https://new.iscmons.be/event/periode-dexamens/
END:VEVENT
END:VCALENDAR