BEGIN:VCALENDAR
VERSION:2.0
PRODID:-//Institut du Sacré-Cœur de Mons - ECPv5.14.0.4//NONSGML v1.0//EN
CALSCALE:GREGORIAN
METHOD:PUBLISH
X-WR-CALNAME:Institut du Sacré-Cœur de Mons
X-ORIGINAL-URL:https://new.iscmons.be
X-WR-CALDESC:évènements pour Institut du Sacré-Cœur de Mons
BEGIN:VTIMEZONE
TZID:Europe/Paris
BEGIN:DAYLIGHT
TZOFFSETFROM:+0100
TZOFFSETTO:+0200
TZNAME:CEST
DTSTART:20200329T010000
END:DAYLIGHT
BEGIN:STANDARD
TZOFFSETFROM:+0200
TZOFFSETTO:+0100
TZNAME:CET
DTSTART:20201025T010000
END:STANDARD
END:VTIMEZONE
BEGIN:VEVENT
DTSTART;TZID=Europe/Paris:20200210T183000
DTEND;TZID=Europe/Paris:20200210T183000
DTSTAMP:20260425T132850
CREATED:20200210T145904Z
LAST-MODIFIED:20200210T145904Z
UID:6715-1581359400-1581359400@new.iscmons.be
SUMMARY:Réunion d'information pour les parents d'élèves de 6e.
DESCRIPTION:Ce lundi 10/02 à 18h30\, le Pouvoir Organisateur de l’ISC organise une réunion d’information pour les parents d’élèves de 6ème (en salle Paridaens).
URL:https://new.iscmons.be/event/reunion-dinformation-pour-les-parents-deleves-de-6e/
END:VEVENT
END:VCALENDAR