BEGIN:VCALENDAR
VERSION:2.0
PRODID:-//Institut du Sacré-Cœur de Mons - ECPv5.14.0.4//NONSGML v1.0//EN
CALSCALE:GREGORIAN
METHOD:PUBLISH
X-WR-CALNAME:Institut du Sacré-Cœur de Mons
X-ORIGINAL-URL:https://new.iscmons.be
X-WR-CALDESC:évènements pour Institut du Sacré-Cœur de Mons
BEGIN:VTIMEZONE
TZID:Europe/Paris
BEGIN:DAYLIGHT
TZOFFSETFROM:+0100
TZOFFSETTO:+0200
TZNAME:CEST
DTSTART:20200329T010000
END:DAYLIGHT
BEGIN:STANDARD
TZOFFSETFROM:+0200
TZOFFSETTO:+0100
TZNAME:CET
DTSTART:20201025T010000
END:STANDARD
END:VTIMEZONE
BEGIN:VEVENT
DTSTART;TZID=Europe/Paris:20201116T080000
DTEND;TZID=Europe/Paris:20201120T170000
DTSTAMP:20260423T000401
CREATED:20200923T181207Z
LAST-MODIFIED:20201125T101710Z
UID:7093-1605513600-1605891600@new.iscmons.be
SUMMARY:English in Action (Annulé)
DESCRIPTION:Pour les élèves de 4e et 5e années
URL:https://new.iscmons.be/event/english-in-action/
END:VEVENT
END:VCALENDAR