BEGIN:VCALENDAR
VERSION:2.0
PRODID:-//Institut du Sacré-Cœur de Mons - ECPv5.14.0.4//NONSGML v1.0//EN
CALSCALE:GREGORIAN
METHOD:PUBLISH
X-WR-CALNAME:Institut du Sacré-Cœur de Mons
X-ORIGINAL-URL:https://new.iscmons.be
X-WR-CALDESC:évènements pour Institut du Sacré-Cœur de Mons
BEGIN:VTIMEZONE
TZID:Europe/Paris
BEGIN:DAYLIGHT
TZOFFSETFROM:+0100
TZOFFSETTO:+0200
TZNAME:CEST
DTSTART:20210328T010000
END:DAYLIGHT
BEGIN:STANDARD
TZOFFSETFROM:+0200
TZOFFSETTO:+0100
TZNAME:CET
DTSTART:20211031T010000
END:STANDARD
END:VTIMEZONE
BEGIN:VEVENT
DTSTART;VALUE=DATE:20210615
DTEND;VALUE=DATE:20210616
DTSTAMP:20260422T125913
CREATED:20210118T124804Z
LAST-MODIFIED:20210118T124804Z
UID:7630-1623715200-1623801599@new.iscmons.be
SUMMARY:CE1D Etude du Milieu
DESCRIPTION:Pour les élèves de 2e année
URL:https://new.iscmons.be/event/ce1d-etude-du-milieu/
END:VEVENT
BEGIN:VEVENT
DTSTART;VALUE=DATE:20210615
DTEND;VALUE=DATE:20210616
DTSTAMP:20260422T125913
CREATED:20210420T121700Z
LAST-MODIFIED:20210420T121700Z
UID:8057-1623715200-1623801599@new.iscmons.be
SUMMARY:Début examens D1
DESCRIPTION:
URL:https://new.iscmons.be/event/debut-examens-d1/
END:VEVENT
END:VCALENDAR