BEGIN:VCALENDAR
VERSION:2.0
PRODID:-//Institut du Sacré-Cœur de Mons - ECPv5.14.0.4//NONSGML v1.0//EN
CALSCALE:GREGORIAN
METHOD:PUBLISH
X-WR-CALNAME:Institut du Sacré-Cœur de Mons
X-ORIGINAL-URL:https://new.iscmons.be
X-WR-CALDESC:évènements pour Institut du Sacré-Cœur de Mons
BEGIN:VTIMEZONE
TZID:Europe/Paris
BEGIN:DAYLIGHT
TZOFFSETFROM:+0100
TZOFFSETTO:+0200
TZNAME:CEST
DTSTART:20210328T010000
END:DAYLIGHT
BEGIN:STANDARD
TZOFFSETFROM:+0200
TZOFFSETTO:+0100
TZNAME:CET
DTSTART:20211031T010000
END:STANDARD
END:VTIMEZONE
BEGIN:VEVENT
DTSTART;VALUE=DATE:20211209
DTEND;VALUE=DATE:20211218
DTSTAMP:20260422T000555
CREATED:20210913T165824Z
LAST-MODIFIED:20210913T165824Z
UID:8372-1639008000-1639785599@new.iscmons.be
SUMMARY:Examens D2 et D3
DESCRIPTION:
URL:https://new.iscmons.be/event/examens-d2-et-d3-3/
END:VEVENT
END:VCALENDAR