BEGIN:VCALENDAR
VERSION:2.0
PRODID:-//Institut du Sacré-Cœur de Mons - ECPv5.14.0.4//NONSGML v1.0//EN
CALSCALE:GREGORIAN
METHOD:PUBLISH
X-WR-CALNAME:Institut du Sacré-Cœur de Mons
X-ORIGINAL-URL:https://new.iscmons.be
X-WR-CALDESC:évènements pour Institut du Sacré-Cœur de Mons
BEGIN:VTIMEZONE
TZID:Europe/Paris
BEGIN:DAYLIGHT
TZOFFSETFROM:+0100
TZOFFSETTO:+0200
TZNAME:CEST
DTSTART:20220327T010000
END:DAYLIGHT
BEGIN:STANDARD
TZOFFSETFROM:+0200
TZOFFSETTO:+0100
TZNAME:CET
DTSTART:20221030T010000
END:STANDARD
END:VTIMEZONE
BEGIN:VEVENT
DTSTART;VALUE=DATE:20220124
DTEND;VALUE=DATE:20220129
DTSTAMP:20260421T222724
CREATED:20220127T092820Z
LAST-MODIFIED:20220127T092820Z
UID:8810-1642982400-1643414399@new.iscmons.be
SUMMARY:Formation EVRAS - 3èmes
DESCRIPTION:  \n\n\n\n\nLundi\nMardi\nJeudi\nVendredi\n\n\n\n24-01-2022\n25-01-2022\n27-01-2022\n28-01-2022\n\n\n09h00-10h40\n\n\n\n3H / C23-C24\n\n\n11h00-12h40\n\n3E / C22-C24\n3C / A12-C23\n3D / C22-C24\n\n\n13h35-15h15\n3F / A13-A14\n3B / C23-C24\n3A / A12-A13\n3G / C22-C23
URL:https://new.iscmons.be/event/formation-evras-3emes/
END:VEVENT
BEGIN:VEVENT
DTSTART;VALUE=DATE:20220127
DTEND;VALUE=DATE:20220129
DTSTAMP:20260421T222724
CREATED:20210928T124143Z
LAST-MODIFIED:20210928T124200Z
UID:8451-1643241600-1643414399@new.iscmons.be
SUMMARY:Journée pédagogique
DESCRIPTION:Congé pour les élèves
URL:https://new.iscmons.be/event/journee-pedagogique-12/
END:VEVENT
END:VCALENDAR